Package: atena Version: 1.15.2 Command: /Library/Frameworks/R.framework/Resources/bin/R CMD build --keep-empty-dirs --no-resave-data atena StartedAt: 2025-10-14 16:03:07 -0400 (Tue, 14 Oct 2025) EndedAt: 2025-10-14 16:17:49 -0400 (Tue, 14 Oct 2025) EllapsedTime: 881.4 seconds RetCode: 0 Status: OK PackageFile: atena_1.15.2.tar.gz PackageFileSize: 1.283 MiB