Package: atena Version: 1.15.2 Command: /Library/Frameworks/R.framework/Resources/bin/R CMD INSTALL atena StartedAt: 2025-09-30 15:20:34 -0400 (Tue, 30 Sep 2025) EndedAt: 2025-09-30 15:20:51 -0400 (Tue, 30 Sep 2025) EllapsedTime: 16.7 seconds RetCode: 0 Status: OK