Package: atena Version: 1.15.2 Command: /Library/Frameworks/R.framework/Resources/bin/R CMD build --keep-empty-dirs --no-resave-data atena StartedAt: 2025-09-30 15:39:30 -0400 (Tue, 30 Sep 2025) EndedAt: 2025-09-30 15:43:23 -0400 (Tue, 30 Sep 2025) EllapsedTime: 233.5 seconds RetCode: 0 Status: OK PackageFile: atena_1.15.2.tar.gz PackageFileSize: 1.283 MiB