Package: atena Version: 1.15.2 Command: rm -rf atena.buildbin-libdir && mkdir atena.buildbin-libdir && /Users/biocbuild/BBS/utils/build-universal.sh atena_1.15.2.tar.gz /Library/Frameworks/R.framework/Resources/bin/R atena.buildbin-libdir StartedAt: 2025-09-30 22:31:25 -0400 (Tue, 30 Sep 2025) EndedAt: 2025-09-30 22:31:44 -0400 (Tue, 30 Sep 2025) EllapsedTime: 18.3 seconds RetCode: 0 Status: OK PackageFile: atena_1.15.2.tgz PackageFileSize: 1.759 MiB