Package: atena Version: 1.17.0 Maintainer: Robert Castelo MaintainerEmail: robert.castelo at upf.edu git_url: https://git.bioconductor.org/packages/atena git_branch: devel git_last_commit: 2209be2 git_last_commit_date: 2025-10-29 11:12:14 -0400 (Wed, 29 Oct 2025)