Package: atSNP Version: 1.27.0 Command: /home/biocbuild/bbs-3.23-bioc/R/bin/R CMD INSTALL atSNP StartedAt: 2025-11-05 15:59:49 -0500 (Wed, 05 Nov 2025) EndedAt: 2025-11-05 16:00:49 -0500 (Wed, 05 Nov 2025) EllapsedTime: 59.7 seconds RetCode: 0 Status: OK