Package: atSNP Version: 1.27.0 Command: /home/biocbuild/bbs-3.23-bioc/R/bin/R CMD build --keep-empty-dirs --no-resave-data atSNP StartedAt: 2025-11-06 16:13:48 -0500 (Thu, 06 Nov 2025) EndedAt: 2025-11-06 16:15:06 -0500 (Thu, 06 Nov 2025) EllapsedTime: 78.0 seconds RetCode: 0 Status: OK PackageFile: atSNP_1.27.0.tar.gz PackageFileSize: 959.4 KiB