Package: atSNP Version: 1.25.0 Command: /Library/Frameworks/R.framework/Resources/bin/R CMD INSTALL atSNP StartedAt: 2025-10-09 15:28:14 -0400 (Thu, 09 Oct 2025) EndedAt: 2025-10-09 15:28:36 -0400 (Thu, 09 Oct 2025) EllapsedTime: 21.1 seconds RetCode: 0 Status: OK