Package: atSNP Version: 1.25.0 Command: /Library/Frameworks/R.framework/Resources/bin/R CMD build --keep-empty-dirs --no-resave-data atSNP StartedAt: 2025-10-09 15:39:53 -0400 (Thu, 09 Oct 2025) EndedAt: 2025-10-09 15:40:23 -0400 (Thu, 09 Oct 2025) EllapsedTime: 30.3 seconds RetCode: 0 Status: OK PackageFile: atSNP_1.25.0.tar.gz PackageFileSize: 1.029 MiB