Package: asuri Version: 0.99.18 Command: /home/biocbuild/bbs-3.23-bioc/R/bin/R CMD INSTALL asuri StartedAt: 2025-11-20 15:17:43 -0500 (Thu, 20 Nov 2025) EndedAt: 2025-11-20 15:18:26 -0500 (Thu, 20 Nov 2025) EllapsedTime: 42.5 seconds RetCode: 0 Status: OK