Package: asuri Version: 0.99.18 Command: /home/biocbuild/bbs-3.23-bioc/R/bin/R CMD build --keep-empty-dirs --no-resave-data asuri StartedAt: 2025-11-20 16:14:29 -0500 (Thu, 20 Nov 2025) EndedAt: 2025-11-20 16:18:44 -0500 (Thu, 20 Nov 2025) EllapsedTime: 255.2 seconds RetCode: 0 Status: OK PackageFile: asuri_0.99.18.tar.gz PackageFileSize: 3.793 MiB