############################################################################## ############################################################################## ### ### Running command: ### ### /home/biocbuild/bbs-3.23-bioc/R/bin/R CMD build --keep-empty-dirs --no-resave-data asuri ### ############################################################################## ############################################################################## * checking for file ‘asuri/DESCRIPTION’ ... OK * preparing ‘asuri’: * checking DESCRIPTION meta-information ... OK * installing the package (it is needed to process help pages) Loading required namespace: asuri * saving partial Rd database * creating vignettes ... OK * excluding invalid files Subdirectory 'R' contains invalid file names: ‘_package.R’ * checking for LF line-endings in source and make files and shell scripts * checking for empty or unneeded directories * looking to see if a ‘data/datalist’ file should be added * building ‘asuri_0.99.18.tar.gz’