Package: asuri Version: 0.99.18 Command: /Library/Frameworks/R.framework/Resources/bin/R CMD INSTALL asuri StartedAt: 2025-11-21 15:24:41 -0500 (Fri, 21 Nov 2025) EndedAt: 2025-11-21 15:25:40 -0500 (Fri, 21 Nov 2025) EllapsedTime: 59.1 seconds RetCode: 0 Status: OK