Package: asuri Version: 0.99.18 Command: /Library/Frameworks/R.framework/Resources/bin/R CMD build --keep-empty-dirs --no-resave-data asuri StartedAt: 2025-11-21 16:06:21 -0500 (Fri, 21 Nov 2025) EndedAt: 2025-11-21 16:11:15 -0500 (Fri, 21 Nov 2025) EllapsedTime: 293.8 seconds RetCode: 0 Status: OK PackageFile: asuri_0.99.18.tar.gz PackageFileSize: 3.747 MiB