Package: asuri Version: 0.99.18 Command: rm -rf asuri.buildbin-libdir && mkdir asuri.buildbin-libdir && /Users/biocbuild/BBS/utils/build-universal.sh asuri_0.99.18.tar.gz /Library/Frameworks/R.framework/Resources/bin/R asuri.buildbin-libdir StartedAt: 2025-11-22 01:22:19 -0500 (Sat, 22 Nov 2025) EndedAt: 2025-11-22 01:23:01 -0500 (Sat, 22 Nov 2025) EllapsedTime: 42.6 seconds RetCode: 0 Status: OK PackageFile: asuri_0.99.18.tgz PackageFileSize: 3.417 MiB