Package: asuri Version: 0.99.18 Command: /Library/Frameworks/R.framework/Resources/bin/R CMD INSTALL asuri StartedAt: 2025-11-20 15:11:42 -0500 (Thu, 20 Nov 2025) EndedAt: 2025-11-20 15:11:59 -0500 (Thu, 20 Nov 2025) EllapsedTime: 17.0 seconds RetCode: 0 Status: OK