Package: asuri Version: 0.99.18 Command: /Library/Frameworks/R.framework/Resources/bin/R CMD build --keep-empty-dirs --no-resave-data asuri StartedAt: 2025-11-20 15:38:44 -0500 (Thu, 20 Nov 2025) EndedAt: 2025-11-20 15:40:26 -0500 (Thu, 20 Nov 2025) EllapsedTime: 102.1 seconds RetCode: 0 Status: OK PackageFile: asuri_0.99.18.tar.gz PackageFileSize: 3.75 MiB