Package: asuri Version: 0.99.18 Command: rm -rf asuri.buildbin-libdir && mkdir asuri.buildbin-libdir && /Users/biocbuild/BBS/utils/build-universal.sh asuri_0.99.18.tar.gz /Library/Frameworks/R.framework/Resources/bin/R asuri.buildbin-libdir StartedAt: 2025-11-20 23:23:41 -0500 (Thu, 20 Nov 2025) EndedAt: 2025-11-20 23:23:55 -0500 (Thu, 20 Nov 2025) EllapsedTime: 14.3 seconds RetCode: 0 Status: OK PackageFile: asuri_0.99.18.tgz PackageFileSize: 3.421 MiB