Package: asuri Version: 0.99.18 Maintainer: Alberto Berral-Gonzalez MaintainerEmail: aberralgonzalez at gmail.com git_url: https://git.bioconductor.org/packages/asuri git_branch: devel git_last_commit: 4be3e09 git_last_commit_date: 2025-10-28 05:46:33 -0500 (Tue, 28 Oct 2025)