Package: assorthead Version: 1.5.0 Command: /home/biocbuild/bbs-3.23-bioc/R/bin/R CMD INSTALL assorthead StartedAt: 2025-10-31 15:10:13 -0400 (Fri, 31 Oct 2025) EndedAt: 2025-10-31 15:10:18 -0400 (Fri, 31 Oct 2025) EllapsedTime: 5.5 seconds RetCode: 0 Status: OK