Package: assorthead Version: 1.5.0 Command: /home/biocbuild/bbs-3.23-bioc/R/bin/R CMD build --keep-empty-dirs --no-resave-data assorthead StartedAt: 2025-10-31 16:31:02 -0400 (Fri, 31 Oct 2025) EndedAt: 2025-10-31 16:31:08 -0400 (Fri, 31 Oct 2025) EllapsedTime: 6.0 seconds RetCode: 0 Status: OK PackageFile: assorthead_1.5.0.tar.gz PackageFileSize: 1.801 MiB