Package: assorthead Version: 1.3.13 Command: /Library/Frameworks/R.framework/Resources/bin/R CMD INSTALL assorthead StartedAt: 2025-10-23 15:01:23 -0400 (Thu, 23 Oct 2025) EndedAt: 2025-10-23 15:01:27 -0400 (Thu, 23 Oct 2025) EllapsedTime: 3.4 seconds RetCode: 0 Status: OK