Package: assorthead Version: 1.3.13 Command: /Library/Frameworks/R.framework/Resources/bin/R CMD build --keep-empty-dirs --no-resave-data assorthead StartedAt: 2025-10-23 15:39:13 -0400 (Thu, 23 Oct 2025) EndedAt: 2025-10-23 15:39:17 -0400 (Thu, 23 Oct 2025) EllapsedTime: 4.0 seconds RetCode: 0 Status: OK PackageFile: assorthead_1.3.13.tar.gz PackageFileSize: 1.797 MiB