Package: assorthead Version: 1.3.13 Command: rm -rf assorthead.buildbin-libdir && mkdir assorthead.buildbin-libdir && /Users/biocbuild/BBS/utils/build-universal.sh assorthead_1.3.13.tar.gz /Library/Frameworks/R.framework/Resources/bin/R assorthead.buildbin-libdir StartedAt: 2025-10-22 22:51:56 -0400 (Wed, 22 Oct 2025) EndedAt: 2025-10-22 22:51:59 -0400 (Wed, 22 Oct 2025) EllapsedTime: 3.0 seconds RetCode: 0 Status: OK PackageFile: assorthead_1.3.13.tgz PackageFileSize: 1.828 MiB