Back to Build/check report for BioC 3.23:   simplified   long
[A]BCDEFGHIJKLMNOPQRSTUVWXYZ

This page was generated on 2025-11-01 11:32 -0400 (Sat, 01 Nov 2025).

HostnameOSArch (*)R versionInstalled pkgs
nebbiolo1Linux (Ubuntu 24.04.3 LTS)x86_64R Under development (unstable) (2025-10-20 r88955) -- "Unsuffered Consequences" 4774
Click on any hostname to see more info about the system (e.g. compilers)      (*) as reported by 'uname -p', except on Windows and Mac OS X

All results for package assorthead


To the developers/maintainers of the assorthead package:
- Allow up to 24 hours (and sometimes 48 hours) for your latest push to git@git.bioconductor.org:packages/assorthead.git to reflect on this report. See Troubleshooting Build Report for more information.
- Use the following Renviron settings to reproduce errors and warnings.
- If 'R CMD check' started to fail recently on the Linux builder(s) over a missing dependency, add the missing dependency to 'Suggests:' in your DESCRIPTION file. See Renviron.bioc for more information.

raw results

Package 111/2321HostnameOS / ArchINSTALLBUILDCHECKBUILD BIN
assorthead 1.5.0  (landing page)
Aaron Lun
Snapshot Date: 2025-10-31 13:40 -0400 (Fri, 31 Oct 2025)
git_url: https://git.bioconductor.org/packages/assorthead
git_branch: devel
git_last_commit: dee6f2c
git_last_commit_date: 2025-10-29 11:31:32 -0400 (Wed, 29 Oct 2025)
nebbiolo1Linux (Ubuntu 24.04.3 LTS) / x86_64  OK    OK    OK  UNNEEDED, same version is already published



Results for Bioconductor software packages that depend directly on package assorthead

QUICK STATSOS / ArchINSTALLBUILDCHECKBUILD BIN
nebbiolo1Linux (Ubuntu 24.04.3 LTS) / x86_64
0012
048
0062
Package 1/12HostnameOS / ArchINSTALLBUILDCHECKBUILD BIN
alabaster.base 1.11.0  (landing page)
Aaron Lun
git_last_commit: f3bb4e9
git_last_commit_date: 2025-10-29 11:21:08 -0400
nebbiolo1Linux (Ubuntu 24.04.3 LTS) / x86_64  OK    ERROR  skipped
Package 2/12HostnameOS / ArchINSTALLBUILDCHECKBUILD BIN
beachmat 2.27.0  (landing page)
Aaron Lun
git_last_commit: 06edf7e
git_last_commit_date: 2025-10-29 10:39:35 -0400
nebbiolo1Linux (Ubuntu 24.04.3 LTS) / x86_64  OK    OK    OK  YES
Package 3/12HostnameOS / ArchINSTALLBUILDCHECKBUILD BIN
beachmat.hdf5 1.9.0  (landing page)
Aaron Lun
git_last_commit: c02a721
git_last_commit_date: 2025-10-29 11:24:41 -0400
nebbiolo1Linux (Ubuntu 24.04.3 LTS) / x86_64  OK    OK    WARNINGS  YES
Package 4/12HostnameOS / ArchINSTALLBUILDCHECKBUILD BIN
beachmat.tiledb 1.3.0  (landing page)
Aaron Lun
git_last_commit: df0fa94
git_last_commit_date: 2025-10-29 11:33:24 -0400
nebbiolo1Linux (Ubuntu 24.04.3 LTS) / x86_64  OK    OK    WARNINGS  YES
Package 5/12HostnameOS / ArchINSTALLBUILDCHECKBUILD BIN
BiocNeighbors 2.5.0  (landing page)
Aaron Lun
git_last_commit: e315db8
git_last_commit_date: 2025-10-29 10:46:10 -0400
nebbiolo1Linux (Ubuntu 24.04.3 LTS) / x86_64  OK    OK    OK  UNNEEDED, same version is already published
Package 6/12HostnameOS / ArchINSTALLBUILDCHECKBUILD BIN
BiocSingular 1.27.0  (landing page)
Aaron Lun
git_last_commit: 2f19618
git_last_commit_date: 2025-10-29 10:50:05 -0400
nebbiolo1Linux (Ubuntu 24.04.3 LTS) / x86_64  OK    OK    WARNINGS  YES
Package 7/12HostnameOS / ArchINSTALLBUILDCHECKBUILD BIN
bluster 1.21.0  (landing page)
Aaron Lun
git_last_commit: bd99aa0
git_last_commit_date: 2025-10-29 11:00:44 -0400
nebbiolo1Linux (Ubuntu 24.04.3 LTS) / x86_64  OK    ERROR  skipped
Package 8/12HostnameOS / ArchINSTALLBUILDCHECKBUILD BIN
bsseq 1.47.1  (landing page)
Kasper Daniel Hansen
git_last_commit: 46b4295
git_last_commit_date: 2025-10-31 11:03:21 -0400
nebbiolo1Linux (Ubuntu 24.04.3 LTS) / x86_64  OK    OK    WARNINGS  NO, package depends on 'BSgenome' which is not available
Package 9/12HostnameOS / ArchINSTALLBUILDCHECKBUILD BIN
DropletUtils 1.31.0  (landing page)
Jonathan Griffiths
git_last_commit: 92de364
git_last_commit_date: 2025-10-29 10:42:43 -0400
nebbiolo1Linux (Ubuntu 24.04.3 LTS) / x86_64  OK    OK    WARNINGS  NO, package depends on 'SingleCellExperiment' which is not available
Package 10/12HostnameOS / ArchINSTALLBUILDCHECKBUILD BIN
glmGamPoi 1.23.0  (landing page)
Constantin Ahlmann-Eltze
git_last_commit: 23ac45d
git_last_commit_date: 2025-10-29 10:58:15 -0400
nebbiolo1Linux (Ubuntu 24.04.3 LTS) / x86_64  OK    OK    WARNINGS  NO, package depends on 'SingleCellExperiment' which is not available
Package 11/12HostnameOS / ArchINSTALLBUILDCHECKBUILD BIN
scrapper 1.5.0  (landing page)
Aaron Lun
git_last_commit: 69ac952
git_last_commit_date: 2025-10-29 11:32:02 -0400
nebbiolo1Linux (Ubuntu 24.04.3 LTS) / x86_64  OK    ERROR  skipped
Package 12/12HostnameOS / ArchINSTALLBUILDCHECKBUILD BIN
SingleR 2.13.0  (landing page)
Aaron Lun
git_last_commit: 2ee58a5
git_last_commit_date: 2025-10-29 10:54:00 -0400
nebbiolo1Linux (Ubuntu 24.04.3 LTS) / x86_64  OK    ERROR  skipped