Package: artMS Version: 1.29.0 Command: /home/biocbuild/bbs-3.23-bioc/R/bin/R CMD INSTALL artMS StartedAt: 2025-11-20 15:25:37 -0500 (Thu, 20 Nov 2025) EndedAt: 2025-11-20 15:26:08 -0500 (Thu, 20 Nov 2025) EllapsedTime: 30.8 seconds RetCode: 0 Status: OK