Package: artMS Version: 1.29.0 Command: /home/biocbuild/bbs-3.23-bioc/R/bin/R CMD build --keep-empty-dirs --no-resave-data artMS StartedAt: 2025-11-20 16:13:33 -0500 (Thu, 20 Nov 2025) EndedAt: 2025-11-20 16:14:29 -0500 (Thu, 20 Nov 2025) EllapsedTime: 56.1 seconds RetCode: 0 Status: OK PackageFile: artMS_1.29.0.tar.gz PackageFileSize: 3.977 MiB