Package: artMS Version: 1.29.0 Command: /Library/Frameworks/R.framework/Resources/bin/R CMD INSTALL artMS StartedAt: 2025-11-20 15:28:55 -0500 (Thu, 20 Nov 2025) EndedAt: 2025-11-20 15:29:39 -0500 (Thu, 20 Nov 2025) EllapsedTime: 43.8 seconds RetCode: 0 Status: OK