Package: artMS Version: 1.29.0 Command: /Library/Frameworks/R.framework/Resources/bin/R CMD build --keep-empty-dirs --no-resave-data artMS StartedAt: 2025-11-20 16:05:38 -0500 (Thu, 20 Nov 2025) EndedAt: 2025-11-20 16:06:41 -0500 (Thu, 20 Nov 2025) EllapsedTime: 63.0 seconds RetCode: 0 Status: OK PackageFile: artMS_1.29.0.tar.gz PackageFileSize: 3.979 MiB