Package: artMS Version: 1.29.0 Command: rm -rf artMS.buildbin-libdir && mkdir artMS.buildbin-libdir && /Users/biocbuild/BBS/utils/build-universal.sh artMS_1.29.0.tar.gz /Library/Frameworks/R.framework/Resources/bin/R artMS.buildbin-libdir StartedAt: 2025-11-21 01:21:42 -0500 (Fri, 21 Nov 2025) EndedAt: 2025-11-21 01:22:31 -0500 (Fri, 21 Nov 2025) EllapsedTime: 48.6 seconds RetCode: 0 Status: OK PackageFile: artMS_1.29.0.tgz PackageFileSize: 3.328 MiB