Package: artMS Version: 1.27.0 Command: /Library/Frameworks/R.framework/Resources/bin/R CMD INSTALL artMS StartedAt: 2025-10-10 15:11:10 -0400 (Fri, 10 Oct 2025) EndedAt: 2025-10-10 15:11:22 -0400 (Fri, 10 Oct 2025) EllapsedTime: 11.4 seconds RetCode: 0 Status: OK