Package: artMS Version: 1.27.0 Command: /Library/Frameworks/R.framework/Resources/bin/R CMD build --keep-empty-dirs --no-resave-data artMS StartedAt: 2025-10-12 15:38:17 -0400 (Sun, 12 Oct 2025) EndedAt: 2025-10-12 15:38:41 -0400 (Sun, 12 Oct 2025) EllapsedTime: 23.3 seconds RetCode: 0 Status: OK PackageFile: artMS_1.27.0.tar.gz PackageFileSize: 3.978 MiB