Package: arrayQualityMetrics Version: 3.67.0 Command: /home/biocbuild/bbs-3.23-bioc/R/bin/R CMD INSTALL arrayQualityMetrics StartedAt: 2025-11-05 15:37:14 -0500 (Wed, 05 Nov 2025) EndedAt: 2025-11-05 15:37:40 -0500 (Wed, 05 Nov 2025) EllapsedTime: 26.0 seconds RetCode: 0 Status: OK