Package: arrayQuality Version: 1.89.0 Command: /home/biocbuild/bbs-3.23-bioc/R/bin/R CMD check --install=check:arrayQuality.install-out.txt --library=/home/biocbuild/bbs-3.23-bioc/R/site-library --timings arrayQuality_1.89.0.tar.gz StartedAt: 2025-11-04 20:57:47 -0500 (Tue, 04 Nov 2025) EndedAt: 2025-11-04 20:58:21 -0500 (Tue, 04 Nov 2025) EllapsedTime: 34.0 seconds RetCode: 0 Status: WARNINGS CheckDir: arrayQuality.Rcheck Warnings: 1