Package: arrayQuality Version: 1.89.0 Command: /home/biocbuild/bbs-3.23-bioc/R/bin/R CMD build --keep-empty-dirs --no-resave-data arrayQuality StartedAt: 2025-10-31 16:29:37 -0400 (Fri, 31 Oct 2025) EndedAt: 2025-10-31 16:29:46 -0400 (Fri, 31 Oct 2025) EllapsedTime: 9.0 seconds RetCode: 0 Status: OK PackageFile: arrayQuality_1.89.0.tar.gz PackageFileSize: 12.82 MiB