Package: arrayQuality Version: 1.87.0 Command: /Library/Frameworks/R.framework/Resources/bin/R CMD check --install=check:arrayQuality.install-out.txt --library=/Library/Frameworks/R.framework/Resources/library --no-vignettes --timings arrayQuality_1.87.0.tar.gz StartedAt: 2025-10-08 20:07:23 -0400 (Wed, 08 Oct 2025) EndedAt: 2025-10-08 20:08:13 -0400 (Wed, 08 Oct 2025) EllapsedTime: 50.7 seconds RetCode: 0 Status: WARNINGS CheckDir: arrayQuality.Rcheck Warnings: 1