Package: arrayMvout Version: 1.67.0 Command: /home/biocbuild/R/R/bin/R CMD check --install=check:arrayMvout.install-out.txt --library=/home/biocbuild/R/R/site-library --no-vignettes --timings arrayMvout_1.67.0.tar.gz StartedAt: 2025-10-07 04:22:08 -0000 (Tue, 07 Oct 2025) EndedAt: 2025-10-07 04:28:34 -0000 (Tue, 07 Oct 2025) EllapsedTime: 385.4 seconds RetCode: 0 Status: OK CheckDir: arrayMvout.Rcheck Warnings: 0