Package: arrayMvout Version: 1.69.0 Command: /home/biocbuild/bbs-3.23-bioc/R/bin/R CMD INSTALL arrayMvout StartedAt: 2025-11-03 16:00:34 -0500 (Mon, 03 Nov 2025) EndedAt: 2025-11-03 16:01:18 -0500 (Mon, 03 Nov 2025) EllapsedTime: 44.4 seconds RetCode: 0 Status: OK