Package: arrayMvout Version: 1.67.0 Command: /Library/Frameworks/R.framework/Resources/bin/R CMD check --install=check:arrayMvout.install-out.txt --library=/Library/Frameworks/R.framework/Resources/library --no-vignettes --timings arrayMvout_1.67.0.tar.gz StartedAt: 2025-09-30 19:33:51 -0400 (Tue, 30 Sep 2025) EndedAt: 2025-09-30 19:39:40 -0400 (Tue, 30 Sep 2025) EllapsedTime: 349.4 seconds RetCode: 0 Status: OK CheckDir: arrayMvout.Rcheck Warnings: 0