Package: aroma.light Version: 3.39.0 Command: /home/biocbuild/bbs-3.22-bioc/R/bin/R CMD INSTALL aroma.light StartedAt: 2025-09-30 15:04:32 -0400 (Tue, 30 Sep 2025) EndedAt: 2025-09-30 15:04:56 -0400 (Tue, 30 Sep 2025) EllapsedTime: 24.0 seconds RetCode: 0 Status: OK