Package: aroma.light Version: 3.39.0 Command: /home/biocbuild/bbs-3.22-bioc/R/bin/R CMD build --keep-empty-dirs --no-resave-data --md5 aroma.light StartedAt: 2025-09-30 16:12:15 -0400 (Tue, 30 Sep 2025) EndedAt: 2025-09-30 16:12:17 -0400 (Tue, 30 Sep 2025) EllapsedTime: 2.0 seconds RetCode: 0 Status: OK PackageFile: aroma.light_3.39.0.tar.gz PackageFileSize: 384.5 KiB