Package: appreci8R Version: 1.29.0 Command: /Library/Frameworks/R.framework/Resources/bin/R CMD INSTALL appreci8R StartedAt: 2025-11-21 15:54:41 -0500 (Fri, 21 Nov 2025) EndedAt: 2025-11-21 15:56:21 -0500 (Fri, 21 Nov 2025) EllapsedTime: 99.3 seconds RetCode: 0 Status: OK