Package: appreci8R Version: 1.29.0 Command: /Library/Frameworks/R.framework/Resources/bin/R CMD build --keep-empty-dirs --no-resave-data appreci8R StartedAt: 2025-11-21 16:05:19 -0500 (Fri, 21 Nov 2025) EndedAt: 2025-11-21 16:09:21 -0500 (Fri, 21 Nov 2025) EllapsedTime: 241.5 seconds RetCode: 0 Status: OK PackageFile: appreci8R_1.29.0.tar.gz PackageFileSize: 1011 KiB