Package: appreci8R Version: 1.29.0 Command: rm -rf appreci8R.buildbin-libdir && mkdir appreci8R.buildbin-libdir && /Users/biocbuild/BBS/utils/build-universal.sh appreci8R_1.29.0.tar.gz /Library/Frameworks/R.framework/Resources/bin/R appreci8R.buildbin-libdir StartedAt: 2025-11-22 01:22:04 -0500 (Sat, 22 Nov 2025) EndedAt: 2025-11-22 01:23:59 -0500 (Sat, 22 Nov 2025) EllapsedTime: 115.5 seconds RetCode: 0 Status: OK PackageFile: appreci8R_1.29.0.tgz PackageFileSize: 1.447 MiB