Package: appreci8R Version: 1.28.0 Command: /Library/Frameworks/R.framework/Resources/bin/R CMD INSTALL appreci8R StartedAt: 2025-10-29 21:53:53 -0400 (Wed, 29 Oct 2025) EndedAt: 2025-10-29 21:54:27 -0400 (Wed, 29 Oct 2025) EllapsedTime: 33.8 seconds RetCode: 0 Status: OK