Package: appreci8R Version: 1.28.0 Command: rm -rf appreci8R.buildbin-libdir && mkdir appreci8R.buildbin-libdir && /Users/biocbuild/BBS/utils/build-universal.sh appreci8R_1.28.0.tar.gz /Library/Frameworks/R.framework/Resources/bin/R appreci8R.buildbin-libdir StartedAt: 2025-10-30 05:15:59 -0400 (Thu, 30 Oct 2025) EndedAt: 2025-10-30 05:16:33 -0400 (Thu, 30 Oct 2025) EllapsedTime: 34.7 seconds RetCode: 0 Status: OK PackageFile: appreci8R_1.28.0.tgz PackageFileSize: 1.45 MiB