Package: apeglm Version: 1.31.0 Command: /home/biocbuild/R/R/bin/R CMD INSTALL apeglm StartedAt: 2025-10-16 21:45:23 -0000 (Thu, 16 Oct 2025) EndedAt: 2025-10-16 21:46:42 -0000 (Thu, 16 Oct 2025) EllapsedTime: 79.5 seconds RetCode: 0 Status: OK