Package: apeglm Version: 1.31.0 Command: /home/biocbuild/R/R/bin/R CMD build --keep-empty-dirs --no-resave-data apeglm StartedAt: 2025-10-16 22:59:46 -0000 (Thu, 16 Oct 2025) EndedAt: 2025-10-16 23:02:05 -0000 (Thu, 16 Oct 2025) EllapsedTime: 139.0 seconds RetCode: 0 Status: OK PackageFile: apeglm_1.31.0.tar.gz PackageFileSize: 782.7 KiB