Package: apeglm Version: 1.31.0 Command: chmod a+r apeglm -R && F:\biocbuild\bbs-3.22-bioc\R\bin\R.exe CMD build --keep-empty-dirs --no-resave-data apeglm StartedAt: 2025-08-14 18:28:08 -0400 (Thu, 14 Aug 2025) EndedAt: 2025-08-14 18:30:59 -0400 (Thu, 14 Aug 2025) EllapsedTime: 170.5 seconds RetCode: 0 Status: OK PackageFile: apeglm_1.31.0.tar.gz PackageFileSize: 447 KiB