Package: apeglm Version: 1.33.0 Command: /home/biocbuild/bbs-3.23-bioc/R/bin/R CMD check --install=check:apeglm.install-out.txt --library=/home/biocbuild/bbs-3.23-bioc/R/site-library --timings apeglm_1.33.0.tar.gz StartedAt: 2025-11-06 20:56:39 -0500 (Thu, 06 Nov 2025) EndedAt: 2025-11-06 21:00:19 -0500 (Thu, 06 Nov 2025) EllapsedTime: 220.4 seconds RetCode: 0 Status: OK CheckDir: apeglm.Rcheck Warnings: 0